BEGIN:VCALENDAR
VERSION:2.0
PRODID:-//Plone.org//NONSGML plone.app.event//EN
X-WR-TIMEZONE:Europe/Berlin
BEGIN:VEVENT
SUMMARY:Forum Beruf: Alternativen zum Lehramt
DTSTART;TZID=Europe/Berlin:20260427T180000
DTSTAMP:20260422T210759Z
UID:706280f0d8f24eea923617a2c700b4a2@www.bzl.uni-bonn.de
CATEGORIES:BZL,Lehrer werden,Lehrerbildung,Praxisphasen,Praxissemester,ext
 raC,extracurriculare Angebote
CREATED:20250116T085305Z
DESCRIPTION:Zweifeln Sie\, ob Sie im Lehramt richtig sind? Mit diesen Geda
 nken sind Sie nicht alleine: 41 % der Lehramtsstudierenden deutschlandweit
  entscheiden sich im Verlauf ihres Studiums für eine alternative Karriere
 . Muss eine Entscheidung gegen Klassenzimmer und Schule auch eine Entschei
 dung gegen das Lehramtsstudium sein? Nein. Lehramtsabsolvent*innen sind Bi
 ldungsprofis. Sie verfügen über fachwissenschaftliche und -didaktische Q
 ualifikationen und haben Einblicke in aktuelle bildungswissenschaftliche T
 hemen. Kompetenzen\, die auch in vielen weiteren Berufsfeldern gefragt sin
 d. \nIm Forum Beruf berichten drei Bonner Lehramtsabsolvent*innen über ih
 re aktuellen Tätigkeitsfelder außerhalb der Schule und ihren Werdegang n
 ach dem Lehramtsstudium. Anschließend besteht bei einem informellen Auskl
 ang die Möglichkeit zur Diskussion und zur persönlichen Kontaktaufnahme 
 mit den Referent*innen.
LAST-MODIFIED:20260317T110954Z
URL:https://www.bzl.uni-bonn.de/veranstaltungen/copy6_of_herausforderne
END:VEVENT
BEGIN:VTIMEZONE
TZID:Europe/Berlin
X-LIC-LOCATION:Europe/Berlin
BEGIN:DAYLIGHT
DTSTART:20260329T030000
TZNAME:CEST
TZOFFSETFROM:+0100
TZOFFSETTO:+0200
END:DAYLIGHT
END:VTIMEZONE
END:VCALENDAR
